	
		BEGIN:VCALENDAR
VERSION:2.0
PRODID:-//Pro-Wrestling Resurrection - ECPv4.9.2//NONSGML v1.0//EN
CALSCALE:GREGORIAN
METHOD:PUBLISH
X-WR-CALNAME:Pro-Wrestling Resurrection
X-ORIGINAL-URL:http://prowrestlingresurrection.com
X-WR-CALDESC:Eventos para Pro-Wrestling Resurrection
BEGIN:VEVENT
DTSTART;VALUE=DATE:20190615
DTEND;VALUE=DATE:20190616
DTSTAMP:20260419T193008
CREATED:20190528T235611Z
LAST-MODIFIED:20190528T235611Z
UID:217-1560556800-1560643199@prowrestlingresurrection.com
SUMMARY:Lucha & Combat Fest
DESCRIPTION:Festival con 3 funciones de lucha libre\, expo\, convivencia\, actividades\, mercadería oficial de tus luchadores favoritos y mucho más\, 12 horas de lucha libre a precios populares a solo 150 pesos y 100 en preventa. \n\n			\n				\n			\n			\n				\n			\n			\n				\n			\n		\n\nComentarios Déjanos saber qué opinas! \n\n	Relacionado\n
URL:http://prowrestlingresurrection.com/event/lucha-combat-fest/
ATTACH;FMTTYPE=image/jpeg:http://prowrestlingresurrection.com/wp-content/uploads/2019/05/luchacombatfestposter.jpg
END:VEVENT
END:VCALENDAR